BEGIN:VCALENDAR
VERSION:2.0
PRODID:-//Tukios.com/
BEGIN:VEVENT
UID:5d1b3573-37ce-4290-8d10-c985e8039237@www.bullockffc.com
DTSTAMP:20260425T023431Z
DTSTART:20260502T150000Z
DTEND:20260502T160000Z
SUMMARY:Celebration of Life
DESCRIPTION:Word of Life Church
URL:https://www.bullockffc.com/obituaries/kristina-wilkinson
LOCATION:Word of Life Church 3902 NE Riverside Rd  St Joseph MO 64505
GEO:39.8035245;-94.7694822
END:VEVENT
END:VCALENDAR